BEGIN:VCALENDAR
VERSION:2.0
PRODID:-//wp-events-plugin.com//7.2.3.1//EN
TZID:Europe/Berlin
X-WR-TIMEZONE:Europe/Berlin
BEGIN:VEVENT
UID:56@waldritter-giessen.de
DTSTART;TZID=Europe/Berlin:20250725T180000
DTEND;TZID=Europe/Berlin:20250725T220000
DTSTAMP:20250708T124136Z
URL:https://www.waldritter-giessen.de/events/spiele-nacht-in-laubach-laute
 r-entgames-2/
SUMMARY:Spiele-Nacht in Laubach-Lauter (EntGames)
DESCRIPTION:Wir unterstützen in Lauter im Gemeindehaus eine Spiele-Nacht z
 u veranstalten.\n\nKein ewiges Spielanleitungen lesen mehr!\n\nLernt neue 
 Spiele und Regeln einfach durchs Spielen.\nFindet neue Mit- oder Gegenspie
 ler.\n\nWir bieten eine große Sammlung von Spielen aller Art an.\nSpielw
 ünsche könnt ihr uns gerne vorher mitteilen.
ATTACH;FMTTYPE=image/jpeg:https://www.waldritter-giessen.de/wp-content/upl
 oads/2025/07/Flyer-Spielenacht-Lauter-Q3-2025-e1751978490717.jpg
CATEGORIES:EntGames
LOCATION:Evangelisches Gemeindehaus Lauter\, Lautertalstraße 38\, Laubach\
 , Hessen\, 35321\, Deutschland
X-APPLE-STRUCTURED-LOCATION;VALUE=URI;X-ADDRESS=Lautertalstraße 38\, Lauba
 ch\, Hessen\, 35321\, Deutschland;X-APPLE-RADIUS=100;X-TITLE=Evangelisches
  Gemeindehaus Lauter:geo:0,0
END:VEVENT
BEGIN:VTIMEZONE
TZID:Europe/Berlin
X-LIC-LOCATION:Europe/Berlin
BEGIN:DAYLIGHT
DTSTART:20250330T030000
TZOFFSETFROM:+0100
TZOFFSETTO:+0200
TZNAME:CEST
END:DAYLIGHT
END:VTIMEZONE
END:VCALENDAR