BEGIN:VCALENDAR
VERSION:2.0
PRODID:-//wp-events-plugin.com//7.2.3.1//EN
TZID:Europe/Berlin
X-WR-TIMEZONE:Europe/Berlin
BEGIN:VEVENT
UID:54@waldritter-giessen.de
DTSTART;TZID=Europe/Berlin:20251108T100000
DTEND;TZID=Europe/Berlin:20251108T160000
DTSTAMP:20250708T123717Z
URL:https://www.waldritter-giessen.de/events/samstagsspiel-november-in-klo
 ster-arnsburg/
SUMMARY:Samstagsspiel (November) in Kloster Arnsburg
DESCRIPTION:Samstagsspiel\nim Auftrag der Jugendförderung\nLandkreis Gieß
 en \nKinder und Jugend Liverollenspiel (LARP)\nFür Krieger\, Waldläufer\
 , Heiler\, Magier und Alchemisten.\nEinsteiger und Fortgeschrittene sind u
 ns willkommen. \n7 - 17 Jahre\nKosten: 12 Euro (Polsterschwert und Tunika 
 können kostenlos ausgeliehen werden)\nWeitere Informationen zum Samstagss
 piel\n\nDer Anmeldeschluss ist fünf Tage (montags) vor dem jeweiligen Ter
 min. Sollten nicht ausreichend Plätze zur Verfügung stehen\, ist eine An
 meldung nur per Warteliste möglich.\nDie Anmeldung erfolgt ausschließlic
 h über das Anmeldetool (Schritt-für-Schritt-Anleitung)\n&nbsp\;\nProjekt
 leiter und Ansprechpartner:\nVerein Waldritter-Giessen e.V.\n&nbsp\;\nVera
 nstalter: Jugendförderung des Landkreis Gießen mit Unterstützung des Wa
 ldritter-Gießen e. V.\, der Jugendpflegen von Buseck\, Heuchelheim\, Laub
 ach\, Lich\, Linden\, Lollar\, Staufenberg und dem Kinder- und Jugendbüro
 s Pohlheim und Wettenberg\n\n\n\n\n\n\n\n\n\n&nbsp\;\n\n&nbsp\;\n\n&nbsp\;
 \n\n&nbsp\;
ATTACH;FMTTYPE=image/jpeg:https://www.waldritter-giessen.de/wp-content/upl
 oads/2024/03/Veranstaltungs_Samstagsspiel.jpg
CATEGORIES:Samstagsspiel
LOCATION:Kloster Arnsburg\, Bursenbau\, Kloster Arnburg (Lich)\, Hessen\, 3
 5423\, Deutschland
X-APPLE-STRUCTURED-LOCATION;VALUE=URI;X-ADDRESS=Bursenbau\, Kloster Arnburg
  (Lich)\, Hessen\, 35423\, Deutschland;X-APPLE-RADIUS=100;X-TITLE=Kloster 
 Arnsburg:geo:0,0
END:VEVENT
BEGIN:VTIMEZONE
TZID:Europe/Berlin
X-LIC-LOCATION:Europe/Berlin
BEGIN:STANDARD
DTSTART:20251026T020000
TZOFFSETFROM:+0200
TZOFFSETTO:+0100
TZNAME:CET
END:STANDARD
END:VTIMEZONE
END:VCALENDAR